BEGIN:VCALENDAR
VERSION:2.0
PRODID:-//Pockemon Crew - ECPv6.15.15//NONSGML v1.0//EN
CALSCALE:GREGORIAN
METHOD:PUBLISH
X-ORIGINAL-URL:https://www.pockemoncrew.com
X-WR-CALDESC:Évènements pour Pockemon Crew
REFRESH-INTERVAL;VALUE=DURATION:PT1H
X-Robots-Tag:noindex
X-PUBLISHED-TTL:PT1H
BEGIN:VTIMEZONE
TZID:Europe/Paris
BEGIN:DAYLIGHT
TZOFFSETFROM:+0100
TZOFFSETTO:+0200
TZNAME:CEST
DTSTART:20250330T010000
END:DAYLIGHT
BEGIN:STANDARD
TZOFFSETFROM:+0200
TZOFFSETTO:+0100
TZNAME:CET
DTSTART:20251026T010000
END:STANDARD
BEGIN:DAYLIGHT
TZOFFSETFROM:+0100
TZOFFSETTO:+0200
TZNAME:CEST
DTSTART:20260329T010000
END:DAYLIGHT
BEGIN:STANDARD
TZOFFSETFROM:+0200
TZOFFSETTO:+0100
TZNAME:CET
DTSTART:20261025T010000
END:STANDARD
BEGIN:DAYLIGHT
TZOFFSETFROM:+0100
TZOFFSETTO:+0200
TZNAME:CEST
DTSTART:20270328T010000
END:DAYLIGHT
BEGIN:STANDARD
TZOFFSETFROM:+0200
TZOFFSETTO:+0100
TZNAME:CET
DTSTART:20271031T010000
END:STANDARD
END:VTIMEZONE
BEGIN:VEVENT
DTSTART;VALUE=DATE:20260421
DTEND;VALUE=DATE:20260422
DTSTAMP:20260420T140341
CREATED:20251118T104646Z
LAST-MODIFIED:20260225T104852Z
UID:50927-1776729600-1776815999@www.pockemoncrew.com
SUMMARY:De la Rue aux Jeux - tournée italienne
DESCRIPTION:
URL:https://www.teatrostabileveneto.it/spettacolo/1371_878_de_la_rue_aux_jeux_olympiques
LOCATION:TEATRO VERDI – PADOVA
CATEGORIES:De la Rue Aux Jeux
END:VEVENT
BEGIN:VEVENT
DTSTART;VALUE=DATE:20260423
DTEND;VALUE=DATE:20260424
DTSTAMP:20260420T140341
CREATED:20251118T104839Z
LAST-MODIFIED:20260224T150103Z
UID:50930-1776902400-1776988799@www.pockemoncrew.com
SUMMARY:De la Rue aux Jeux - tournée italienne
DESCRIPTION:
URL:https://www.pockemoncrew.com/event/de-la-rue-aux-jeux-tournee-italienne-2/
LOCATION:Teatro Comunale Mario Del Monaco\, Teatro Comunale Mario Del Monaco - Treviso\, Italy
END:VEVENT
END:VCALENDAR