BEGIN:VCALENDAR
VERSION:2.0
PRODID:-//Pockemon Crew - ECPv6.15.15//NONSGML v1.0//EN
CALSCALE:GREGORIAN
METHOD:PUBLISH
X-WR-CALNAME:Pockemon Crew
X-ORIGINAL-URL:https://www.pockemoncrew.com
X-WR-CALDESC:Évènements pour Pockemon Crew
REFRESH-INTERVAL;VALUE=DURATION:PT1H
X-Robots-Tag:noindex
X-PUBLISHED-TTL:PT1H
BEGIN:VTIMEZONE
TZID:Europe/Paris
BEGIN:DAYLIGHT
TZOFFSETFROM:+0100
TZOFFSETTO:+0200
TZNAME:CEST
DTSTART:20250330T010000
END:DAYLIGHT
BEGIN:STANDARD
TZOFFSETFROM:+0200
TZOFFSETTO:+0100
TZNAME:CET
DTSTART:20251026T010000
END:STANDARD
BEGIN:DAYLIGHT
TZOFFSETFROM:+0100
TZOFFSETTO:+0200
TZNAME:CEST
DTSTART:20260329T010000
END:DAYLIGHT
BEGIN:STANDARD
TZOFFSETFROM:+0200
TZOFFSETTO:+0100
TZNAME:CET
DTSTART:20261025T010000
END:STANDARD
BEGIN:DAYLIGHT
TZOFFSETFROM:+0100
TZOFFSETTO:+0200
TZNAME:CEST
DTSTART:20270328T010000
END:DAYLIGHT
BEGIN:STANDARD
TZOFFSETFROM:+0200
TZOFFSETTO:+0100
TZNAME:CET
DTSTART:20271031T010000
END:STANDARD
END:VTIMEZONE
BEGIN:VEVENT
DTSTART;TZID=Europe/Paris:20260313T203000
DTEND;TZID=Europe/Paris:20260313T213000
DTSTAMP:20260420T152441
CREATED:20251008T233652Z
LAST-MODIFIED:20251106T110402Z
UID:48496-1773433800-1773437400@www.pockemoncrew.com
SUMMARY:De la rue aux Jeux
DESCRIPTION:
URL:https://www.culture.puteaux.fr/saison-2025-2026/pockemon-crew-de-la-rue-aux-jeux/
LOCATION:Conservatoire Jean-Baptiste Lully\, 5 Rue Francis de Pressensé\, Puteaux\, 92800\, France
CATEGORIES:De la Rue Aux Jeux
END:VEVENT
BEGIN:VEVENT
DTSTART;VALUE=DATE:20260317
DTEND;VALUE=DATE:20260329
DTSTAMP:20260420T152441
CREATED:20260225T105328Z
LAST-MODIFIED:20260225T105328Z
UID:50957-1773705600-1774742399@www.pockemoncrew.com
SUMMARY:De la Rue Aux Jeux - tournée République Démocratique du Congo
DESCRIPTION:
URL:https://www.ifrdc.org/evenements/danse-de-la-rue-aux-jeux-compagnie-pockemon-crew
LOCATION:Institut français de Kinshasa et Lubumbashi – RDC\, Congo\, Democratic Republic of the
CATEGORIES:De la Rue Aux Jeux
END:VEVENT
END:VCALENDAR